BEGIN:VCALENDAR
VERSION:2.0
PRODID:-//jEvents 2.0 for Joomla//EN
CALSCALE:GREGORIAN
METHOD:PUBLISH
BEGIN:VTIMEZONE
TZID:Europe/Berlin
BEGIN:STANDARD
DTSTART:20280313T000000
RDATE:20280326T030000
TZOFFSETFROM:+0200
TZOFFSETTO:+0100
TZNAME:Europe/Berlin CET
END:STANDARD
BEGIN:STANDARD
DTSTART:20281029T020000
RDATE:20290325T030000
TZOFFSETFROM:+0200
TZOFFSETTO:+0100
TZNAME:Europe/Berlin CET
END:STANDARD
BEGIN:STANDARD
DTSTART:20291028T020000
RDATE:20300331T030000
TZOFFSETFROM:+0200
TZOFFSETTO:+0100
TZNAME:Europe/Berlin CET
END:STANDARD
BEGIN:STANDARD
DTSTART:20301027T020000
RDATE:20310330T030000
TZOFFSETFROM:+0200
TZOFFSETTO:+0100
TZNAME:Europe/Berlin CET
END:STANDARD
BEGIN:STANDARD
DTSTART:20311026T020000
RDATE:20320328T030000
TZOFFSETFROM:+0200
TZOFFSETTO:+0100
TZNAME:Europe/Berlin CET
END:STANDARD
BEGIN:DAYLIGHT
DTSTART:20280326T030000
RDATE:20281029T020000
TZOFFSETFROM:+0100
TZOFFSETTO:+0200
TZNAME:Europe/Berlin CEST
END:DAYLIGHT
BEGIN:DAYLIGHT
DTSTART:20290325T030000
RDATE:20291028T020000
TZOFFSETFROM:+0100
TZOFFSETTO:+0200
TZNAME:Europe/Berlin CEST
END:DAYLIGHT
BEGIN:DAYLIGHT
DTSTART:20300331T030000
RDATE:20301027T020000
TZOFFSETFROM:+0100
TZOFFSETTO:+0200
TZNAME:Europe/Berlin CEST
END:DAYLIGHT
BEGIN:DAYLIGHT
DTSTART:20310330T030000
RDATE:20311026T020000
TZOFFSETFROM:+0100
TZOFFSETTO:+0200
TZNAME:Europe/Berlin CEST
END:DAYLIGHT
END:VTIMEZONE
BEGIN:VEVENT
UID:be97aea17da2c3988b1c819279480794
CATEGORIES:Kongresse
CREATED:20250221T104149
SUMMARY:DGKN29 | Kongress für Klinische Neurowissenschaften mit Fortbildungsakademie
LOCATION:Kongresshalle Zoo Leipzig
DESCRIPTION:Veranstalter\nDeutsche Gesellschaft für Klinische Neurophysiologie und Funk
 tionelle Bildgebung (DGKN) e.V.\n\n - Kongress-Website (https://kongress.dg
 kn.de/home-kongress) \nÄnderungen vorbehalten\n
X-ALT-DESC;FMTTYPE=text/html:<p><strong>Veranstalter</strong><br />Deutsche Gesellschaft für Klinische N
 europhysiologie und Funktionelle Bildgebung (DGKN) e.V.</p><ul><li><a href=
 "https://kongress.dgkn.de/home-kongress" target="_blank" rel="noopener" tit
 le="Erfahren Sie mehr">Kongress-Website</a></li></ul><p>&nbsp;</p><p><em>Än
 derungen vorbehalten</em></p>
DTSTAMP:20260423T034750
DTSTART;TZID=Europe/Berlin;VALUE=DATE:20290314
DTEND;TZID=Europe/Berlin;VALUE=DATE:20290317
SEQUENCE:0
TRANSP:OPAQUE
END:VEVENT
END:VCALENDAR