BEGIN:VCALENDAR
VERSION:2.0
PRODID:-//jEvents 2.0 for Joomla//EN
CALSCALE:GREGORIAN
METHOD:PUBLISH
BEGIN:VTIMEZONE
TZID:Europe/Berlin
BEGIN:STANDARD
DTSTART:20251026T020000
RDATE:20260329T030000
TZOFFSETFROM:+0200
TZOFFSETTO:+0100
TZNAME:Europe/Berlin CET
END:STANDARD
BEGIN:STANDARD
DTSTART:20261025T020000
RDATE:20270328T030000
TZOFFSETFROM:+0200
TZOFFSETTO:+0100
TZNAME:Europe/Berlin CET
END:STANDARD
BEGIN:STANDARD
DTSTART:20271031T020000
RDATE:20280326T030000
TZOFFSETFROM:+0200
TZOFFSETTO:+0100
TZNAME:Europe/Berlin CET
END:STANDARD
BEGIN:STANDARD
DTSTART:20281029T020000
RDATE:20290325T030000
TZOFFSETFROM:+0200
TZOFFSETTO:+0100
TZNAME:Europe/Berlin CET
END:STANDARD
BEGIN:STANDARD
DTSTART:20291028T020000
RDATE:20300331T030000
TZOFFSETFROM:+0200
TZOFFSETTO:+0100
TZNAME:Europe/Berlin CET
END:STANDARD
BEGIN:STANDARD
DTSTART:20301027T020000
RDATE:20310330T030000
TZOFFSETFROM:+0200
TZOFFSETTO:+0100
TZNAME:Europe/Berlin CET
END:STANDARD
BEGIN:STANDARD
DTSTART:20311026T020000
RDATE:20320328T030000
TZOFFSETFROM:+0200
TZOFFSETTO:+0100
TZNAME:Europe/Berlin CET
END:STANDARD
BEGIN:DAYLIGHT
DTSTART:20251008T090000
RDATE:20251026T020000
TZOFFSETFROM:+0100
TZOFFSETTO:+0200
TZNAME:Europe/Berlin CEST
END:DAYLIGHT
BEGIN:DAYLIGHT
DTSTART:20260329T030000
RDATE:20261025T020000
TZOFFSETFROM:+0100
TZOFFSETTO:+0200
TZNAME:Europe/Berlin CEST
END:DAYLIGHT
BEGIN:DAYLIGHT
DTSTART:20270328T030000
RDATE:20271031T020000
TZOFFSETFROM:+0100
TZOFFSETTO:+0200
TZNAME:Europe/Berlin CEST
END:DAYLIGHT
BEGIN:DAYLIGHT
DTSTART:20280326T030000
RDATE:20281029T020000
TZOFFSETFROM:+0100
TZOFFSETTO:+0200
TZNAME:Europe/Berlin CEST
END:DAYLIGHT
BEGIN:DAYLIGHT
DTSTART:20290325T030000
RDATE:20291028T020000
TZOFFSETFROM:+0100
TZOFFSETTO:+0200
TZNAME:Europe/Berlin CEST
END:DAYLIGHT
BEGIN:DAYLIGHT
DTSTART:20300331T030000
RDATE:20301027T020000
TZOFFSETFROM:+0100
TZOFFSETTO:+0200
TZNAME:Europe/Berlin CEST
END:DAYLIGHT
BEGIN:DAYLIGHT
DTSTART:20310330T030000
RDATE:20311026T020000
TZOFFSETFROM:+0100
TZOFFSETTO:+0200
TZNAME:Europe/Berlin CEST
END:DAYLIGHT
END:VTIMEZONE
BEGIN:VEVENT
UID:93b5826a09ace9ed454345204845a99c
CATEGORIES:Prüfungen
CREATED:20251002T111218
SUMMARY:EEG-Online-Prüfung in ILIAS am 09. Oktober 2026
DESCRIPTION:EEG-Prüfung über ILIAS-Lernportal\nPrüfungsmodalitäten\n\n - Freitag, 09. O
 ktober 2026, online über ILIAS-Lernportal (melden Sie sich bitte rechtzeiti
 g vor der Prüfung persönlich im ILIAS-Portal an, damit Sie Ihre personenbez
 ogenen Zugangsdaten erhalten können)\n - Beantwortung von 60 Multiple-Choic
 e-Fragen; 90 Minuten innerhalb eines Zeitfensters von 9-16 UhrAnmeldung\n\n
  - Teilnahmevoraussetzungen: vorherige Prüfungsanmeldung inkl. vollständig 
 ausgefülltem und unterzeichnetem Ausbildungsbuch (images/richtlinien/2024_D
 GKN_Ausbildungsbuch_EEG_out.pdf) (digital be- und <a href="images/Anleitung
 _Digitale_Signatur_DGKN.pdf" target="_blank" rel="noopener">unterschreibbar
 </a>!) sowie entsprechender Fortbildungsnachweis\n - die Unterlagen sind bi
 s zum 11. September 2026 an Diese E-Mail-Adresse ist vor Spambots geschützt
 ! Zur Anzeige muss JavaScript eingeschaltet sein. zu sendenFortbildungspunk
 te\n\n - es werden 6 FBA-Punkte für EEG für den Erwerb des EEG-Zertifikates
  benötigt
X-ALT-DESC;FMTTYPE=text/html:<p><strong>EEG-Prüfung über ILIAS-Lernportal</strong></p><p><strong>Prüfung
 smodalitäten</strong></p><ul><li>Freitag, <strong>09. Oktober 2026</strong>
 , online über ILIAS-Lernportal (melden Sie sich bitte rechtzeitig vor der P
 rüfung persönlich im ILIAS-Portal an, damit Sie Ihre personenbezogenen Zuga
 ngsdaten erhalten können)</li><li>Beantwortung von 60 Multiple-Choice-Frage
 n; 90 Minuten innerhalb eines Zeitfensters von 9-16 Uhr</li></ul><p><strong
 >Anmeldung</strong></p><ul><li>Teilnahmevoraussetzungen: vorherige Prüfungs
 anmeldung inkl. vollständig ausgefülltem und unterzeichnetem <a href="image
 s/richtlinien/2024_DGKN_Ausbildungsbuch_EEG_out.pdf" target="_blank" rel="n
 oopener">Ausbildungsbuch</a> (digital be- und <a href="images/Anleitung_Dig
 itale_Signatur_DGKN.pdf" target="_blank" rel="noopener">unterschreibbar</a>
 !) sowie entsprechender Fortbildungsnachweis</li><li>die Unterlagen sind bi
 s zum <strong>11. September 2026</strong>&nbsp;an <joomla-hidden-mail  is-l
 ink="1" is-email="1" first="emVydGlmaWthdGU=" last="ZGdrbi5kZQ==" text="emV
 ydGlmaWthdGVAZGdrbi5kZQ==" base="" >Diese E-Mail-Adresse ist vor Spambots g
 eschützt! Zur Anzeige muss JavaScript eingeschaltet sein.</joomla-hidden-ma
 il> zu senden</li></ul><p><strong>Fortbildungspunkte</strong></p><ul><li>es
  werden <strong>6 FBA-Punkte für EEG</strong> für den Erwerb des EEG-Zertif
 ikates benötigt</li></ul>
DTSTAMP:20260423T041948
DTSTART;TZID=Europe/Berlin:20261009T090000
DTEND;TZID=Europe/Berlin:20261009T160000
SEQUENCE:0
TRANSP:OPAQUE
END:VEVENT
END:VCALENDAR